BEGIN:VCALENDAR
VERSION:2.0
PRODID:-//Long Meadow School - ECPv6.15.20//NONSGML v1.0//EN
CALSCALE:GREGORIAN
METHOD:PUBLISH
X-WR-CALNAME:Long Meadow School
X-ORIGINAL-URL:https://longmeadow.milton-keynes.sch.uk
X-WR-CALDESC:Events for Long Meadow School
REFRESH-INTERVAL;VALUE=DURATION:PT1H
X-Robots-Tag:noindex
X-PUBLISHED-TTL:PT1H
BEGIN:VTIMEZONE
TZID:Europe/London
BEGIN:DAYLIGHT
TZOFFSETFROM:+0000
TZOFFSETTO:+0100
TZNAME:BST
DTSTART:20250330T010000
END:DAYLIGHT
BEGIN:STANDARD
TZOFFSETFROM:+0100
TZOFFSETTO:+0000
TZNAME:GMT
DTSTART:20251026T010000
END:STANDARD
BEGIN:DAYLIGHT
TZOFFSETFROM:+0000
TZOFFSETTO:+0100
TZNAME:BST
DTSTART:20260329T010000
END:DAYLIGHT
BEGIN:STANDARD
TZOFFSETFROM:+0100
TZOFFSETTO:+0000
TZNAME:GMT
DTSTART:20261025T010000
END:STANDARD
BEGIN:DAYLIGHT
TZOFFSETFROM:+0000
TZOFFSETTO:+0100
TZNAME:BST
DTSTART:20270328T010000
END:DAYLIGHT
BEGIN:STANDARD
TZOFFSETFROM:+0100
TZOFFSETTO:+0000
TZNAME:GMT
DTSTART:20271031T010000
END:STANDARD
END:VTIMEZONE
BEGIN:VEVENT
DTSTART;VALUE=DATE:20260707
DTEND;VALUE=DATE:20260708
DTSTAMP:20260422T002912
CREATED:20260326T134235Z
LAST-MODIFIED:20260326T134235Z
UID:103561-1783382400-1783468799@longmeadow.milton-keynes.sch.uk
SUMMARY:KS2 Sports Day
DESCRIPTION:
URL:https://longmeadow.milton-keynes.sch.uk/event/ks2-sports-day-2/
END:VEVENT
BEGIN:VEVENT
DTSTART;TZID=Europe/London:20260710T141500
DTEND;TZID=Europe/London:20260710T150000
DTSTAMP:20260422T002912
CREATED:20260326T141915Z
LAST-MODIFIED:20260326T141915Z
UID:103600-1783692900-1783695600@longmeadow.milton-keynes.sch.uk
SUMMARY:Year 3 Learning Fair
DESCRIPTION:
URL:https://longmeadow.milton-keynes.sch.uk/event/year-3-learning-fair-2/
END:VEVENT
BEGIN:VEVENT
DTSTART;VALUE=DATE:20260711
DTEND;VALUE=DATE:20260712
DTSTAMP:20260422T002912
CREATED:20260421T131613Z
LAST-MODIFIED:20260421T131613Z
UID:103892-1783728000-1783814399@longmeadow.milton-keynes.sch.uk
SUMMARY:School Fete
DESCRIPTION:
URL:https://longmeadow.milton-keynes.sch.uk/event/school-fete/
END:VEVENT
BEGIN:VEVENT
DTSTART;VALUE=DATE:20260713
DTEND;VALUE=DATE:20260714
DTSTAMP:20260422T002912
CREATED:20260421T131723Z
LAST-MODIFIED:20260421T131723Z
UID:103894-1783900800-1783987199@longmeadow.milton-keynes.sch.uk
SUMMARY:Year 6 Performance
DESCRIPTION:PM – details to follow
URL:https://longmeadow.milton-keynes.sch.uk/event/year-6-performance/
END:VEVENT
BEGIN:VEVENT
DTSTART;TZID=Europe/London:20260714T141500
DTEND;TZID=Europe/London:20260714T150000
DTSTAMP:20260422T002912
CREATED:20260421T131807Z
LAST-MODIFIED:20260421T131807Z
UID:103896-1784038500-1784041200@longmeadow.milton-keynes.sch.uk
SUMMARY:Year 5/6 Awards Assembly
DESCRIPTION:
URL:https://longmeadow.milton-keynes.sch.uk/event/year-5-6-awards-assembly/
END:VEVENT
BEGIN:VEVENT
DTSTART;VALUE=DATE:20260715
DTEND;VALUE=DATE:20260716
DTSTAMP:20260422T002912
CREATED:20260421T132005Z
LAST-MODIFIED:20260421T132005Z
UID:103902-1784073600-1784159999@longmeadow.milton-keynes.sch.uk
SUMMARY:Year 6 Leavers Disco
DESCRIPTION:
URL:https://longmeadow.milton-keynes.sch.uk/event/year-6-leavers-disco-2/
END:VEVENT
BEGIN:VEVENT
DTSTART;TZID=Europe/London:20260715T091000
DTEND;TZID=Europe/London:20260715T101000
DTSTAMP:20260422T002912
CREATED:20260421T131847Z
LAST-MODIFIED:20260421T131847Z
UID:103898-1784106600-1784110200@longmeadow.milton-keynes.sch.uk
SUMMARY:KS1 & EYFS Awards Assembly
DESCRIPTION:
URL:https://longmeadow.milton-keynes.sch.uk/event/ks1-eyfs-awards-assembly/
END:VEVENT
BEGIN:VEVENT
DTSTART;TZID=Europe/London:20260715T141500
DTEND;TZID=Europe/London:20260715T151500
DTSTAMP:20260422T002912
CREATED:20260421T131929Z
LAST-MODIFIED:20260421T131929Z
UID:103900-1784124900-1784128500@longmeadow.milton-keynes.sch.uk
SUMMARY:Year 3/4 Awards Assembly
DESCRIPTION:
URL:https://longmeadow.milton-keynes.sch.uk/event/year-3-4-awards-assembly-2/
END:VEVENT
BEGIN:VEVENT
DTSTART;TZID=Europe/London:20260717T090000
DTEND;TZID=Europe/London:20260717T100000
DTSTAMP:20260422T002912
CREATED:20260421T132051Z
LAST-MODIFIED:20260421T132051Z
UID:103904-1784278800-1784282400@longmeadow.milton-keynes.sch.uk
SUMMARY:Year 6 Leavers Assembly
DESCRIPTION:
URL:https://longmeadow.milton-keynes.sch.uk/event/year-6-leavers-assembly-2/
END:VEVENT
END:VCALENDAR