BEGIN:VCALENDAR
VERSION:2.0
PRODID:-//Long Meadow School - ECPv6.15.20//NONSGML v1.0//EN
CALSCALE:GREGORIAN
METHOD:PUBLISH
X-WR-CALNAME:Long Meadow School
X-ORIGINAL-URL:https://longmeadow.milton-keynes.sch.uk
X-WR-CALDESC:Events for Long Meadow School
REFRESH-INTERVAL;VALUE=DURATION:PT1H
X-Robots-Tag:noindex
X-PUBLISHED-TTL:PT1H
BEGIN:VTIMEZONE
TZID:Europe/London
BEGIN:DAYLIGHT
TZOFFSETFROM:+0000
TZOFFSETTO:+0100
TZNAME:BST
DTSTART:20250330T010000
END:DAYLIGHT
BEGIN:STANDARD
TZOFFSETFROM:+0100
TZOFFSETTO:+0000
TZNAME:GMT
DTSTART:20251026T010000
END:STANDARD
BEGIN:DAYLIGHT
TZOFFSETFROM:+0000
TZOFFSETTO:+0100
TZNAME:BST
DTSTART:20260329T010000
END:DAYLIGHT
BEGIN:STANDARD
TZOFFSETFROM:+0100
TZOFFSETTO:+0000
TZNAME:GMT
DTSTART:20261025T010000
END:STANDARD
BEGIN:DAYLIGHT
TZOFFSETFROM:+0000
TZOFFSETTO:+0100
TZNAME:BST
DTSTART:20270328T010000
END:DAYLIGHT
BEGIN:STANDARD
TZOFFSETFROM:+0100
TZOFFSETTO:+0000
TZNAME:GMT
DTSTART:20271031T010000
END:STANDARD
END:VTIMEZONE
BEGIN:VEVENT
DTSTART;VALUE=DATE:20260501
DTEND;VALUE=DATE:20260502
DTSTAMP:20260425T145648
CREATED:20260326T134607Z
LAST-MODIFIED:20260326T134607Z
UID:103565-1777593600-1777679999@longmeadow.milton-keynes.sch.uk
SUMMARY:EYFS Science Day
DESCRIPTION:
URL:https://longmeadow.milton-keynes.sch.uk/event/eyfs-science-day/
END:VEVENT
BEGIN:VEVENT
DTSTART;TZID=Europe/London:20260501T153000
DTEND;TZID=Europe/London:20260501T170000
DTSTAMP:20260425T145648
CREATED:20260210T112013Z
LAST-MODIFIED:20260210T112013Z
UID:103205-1777649400-1777654800@longmeadow.milton-keynes.sch.uk
SUMMARY:PALMS - Colour Fun Run
DESCRIPTION:
URL:https://longmeadow.milton-keynes.sch.uk/event/palms-colour-fun-run/
END:VEVENT
BEGIN:VEVENT
DTSTART;TZID=Europe/London:20260501T154500
DTEND;TZID=Europe/London:20260501T174500
DTSTAMP:20260425T145648
CREATED:20260326T134644Z
LAST-MODIFIED:20260326T134644Z
UID:103567-1777650300-1777657500@longmeadow.milton-keynes.sch.uk
SUMMARY:PALMS Colour Run
DESCRIPTION:
URL:https://longmeadow.milton-keynes.sch.uk/event/palms-colour-run/
END:VEVENT
END:VCALENDAR