BEGIN:VCALENDAR
VERSION:2.0
PRODID:-//Long Meadow School - ECPv6.15.20//NONSGML v1.0//EN
CALSCALE:GREGORIAN
METHOD:PUBLISH
X-ORIGINAL-URL:https://longmeadow.milton-keynes.sch.uk
X-WR-CALDESC:Events for Long Meadow School
REFRESH-INTERVAL;VALUE=DURATION:PT1H
X-Robots-Tag:noindex
X-PUBLISHED-TTL:PT1H
BEGIN:VTIMEZONE
TZID:Europe/London
BEGIN:DAYLIGHT
TZOFFSETFROM:+0000
TZOFFSETTO:+0100
TZNAME:BST
DTSTART:20250330T010000
END:DAYLIGHT
BEGIN:STANDARD
TZOFFSETFROM:+0100
TZOFFSETTO:+0000
TZNAME:GMT
DTSTART:20251026T010000
END:STANDARD
BEGIN:DAYLIGHT
TZOFFSETFROM:+0000
TZOFFSETTO:+0100
TZNAME:BST
DTSTART:20260329T010000
END:DAYLIGHT
BEGIN:STANDARD
TZOFFSETFROM:+0100
TZOFFSETTO:+0000
TZNAME:GMT
DTSTART:20261025T010000
END:STANDARD
BEGIN:DAYLIGHT
TZOFFSETFROM:+0000
TZOFFSETTO:+0100
TZNAME:BST
DTSTART:20270328T010000
END:DAYLIGHT
BEGIN:STANDARD
TZOFFSETFROM:+0100
TZOFFSETTO:+0000
TZNAME:GMT
DTSTART:20271031T010000
END:STANDARD
END:VTIMEZONE
BEGIN:VEVENT
DTSTART;VALUE=DATE:20260326
DTEND;VALUE=DATE:20260327
DTSTAMP:20260423T171928
CREATED:20251218T131155Z
LAST-MODIFIED:20251218T131155Z
UID:102530-1774483200-1774569599@longmeadow.milton-keynes.sch.uk
SUMMARY:Class Photos
DESCRIPTION:
URL:https://longmeadow.milton-keynes.sch.uk/event/class-photos/
END:VEVENT
BEGIN:VEVENT
DTSTART;TZID=Europe/London:20260326T141500
DTEND;TZID=Europe/London:20260326T151500
DTSTAMP:20260423T171928
CREATED:20251218T131240Z
LAST-MODIFIED:20251218T131240Z
UID:102532-1774534500-1774538100@longmeadow.milton-keynes.sch.uk
SUMMARY:Year 5 & 6 Awards Assembly
DESCRIPTION:
URL:https://longmeadow.milton-keynes.sch.uk/event/year-5-6-awards-assembly-2/
END:VEVENT
BEGIN:VEVENT
DTSTART;TZID=Europe/London:20260326T151500
DTEND;TZID=Europe/London:20260326T170000
DTSTAMP:20260423T171928
CREATED:20260210T111843Z
LAST-MODIFIED:20260210T111843Z
UID:103201-1774538100-1774544400@longmeadow.milton-keynes.sch.uk
SUMMARY:PALMS - KS2 Easter Crafting
DESCRIPTION:
URL:https://longmeadow.milton-keynes.sch.uk/event/palms-ks2-easter-crafting/
END:VEVENT
END:VCALENDAR