BEGIN:VCALENDAR
VERSION:2.0
PRODID:-//Long Meadow School - ECPv6.15.20//NONSGML v1.0//EN
CALSCALE:GREGORIAN
METHOD:PUBLISH
X-WR-CALNAME:Long Meadow School
X-ORIGINAL-URL:https://longmeadow.milton-keynes.sch.uk
X-WR-CALDESC:Events for Long Meadow School
REFRESH-INTERVAL;VALUE=DURATION:PT1H
X-Robots-Tag:noindex
X-PUBLISHED-TTL:PT1H
BEGIN:VTIMEZONE
TZID:Europe/London
BEGIN:DAYLIGHT
TZOFFSETFROM:+0000
TZOFFSETTO:+0100
TZNAME:BST
DTSTART:20250330T010000
END:DAYLIGHT
BEGIN:STANDARD
TZOFFSETFROM:+0100
TZOFFSETTO:+0000
TZNAME:GMT
DTSTART:20251026T010000
END:STANDARD
BEGIN:DAYLIGHT
TZOFFSETFROM:+0000
TZOFFSETTO:+0100
TZNAME:BST
DTSTART:20260329T010000
END:DAYLIGHT
BEGIN:STANDARD
TZOFFSETFROM:+0100
TZOFFSETTO:+0000
TZNAME:GMT
DTSTART:20261025T010000
END:STANDARD
BEGIN:DAYLIGHT
TZOFFSETFROM:+0000
TZOFFSETTO:+0100
TZNAME:BST
DTSTART:20270328T010000
END:DAYLIGHT
BEGIN:STANDARD
TZOFFSETFROM:+0100
TZOFFSETTO:+0000
TZNAME:GMT
DTSTART:20271031T010000
END:STANDARD
END:VTIMEZONE
BEGIN:VEVENT
DTSTART;VALUE=DATE:20260316
DTEND;VALUE=DATE:20260320
DTSTAMP:20260423T081552
CREATED:20251218T130719Z
LAST-MODIFIED:20251218T130719Z
UID:102514-1773619200-1773964799@longmeadow.milton-keynes.sch.uk
SUMMARY:Year 6 Mock SATs
DESCRIPTION:
URL:https://longmeadow.milton-keynes.sch.uk/event/year-6-mock-sats-4/
END:VEVENT
BEGIN:VEVENT
DTSTART;VALUE=DATE:20260316
DTEND;VALUE=DATE:20260320
DTSTAMP:20260423T081552
CREATED:20260206T111124Z
LAST-MODIFIED:20260206T111124Z
UID:103163-1773619200-1773964799@longmeadow.milton-keynes.sch.uk
SUMMARY:Book Fair
DESCRIPTION:3.15pm – 3.45pm
URL:https://longmeadow.milton-keynes.sch.uk/event/book-fair/
END:VEVENT
BEGIN:VEVENT
DTSTART;VALUE=DATE:20260318
DTEND;VALUE=DATE:20260321
DTSTAMP:20260423T081552
CREATED:20260305T133516Z
LAST-MODIFIED:20260305T133516Z
UID:103393-1773792000-1774051199@longmeadow.milton-keynes.sch.uk
SUMMARY:Year 5 Bikeability
DESCRIPTION:
URL:https://longmeadow.milton-keynes.sch.uk/event/year-5-bikeability/
END:VEVENT
BEGIN:VEVENT
DTSTART;VALUE=DATE:20260318
DTEND;VALUE=DATE:20260319
DTSTAMP:20260423T081552
CREATED:20260305T133554Z
LAST-MODIFIED:20260305T133554Z
UID:103395-1773792000-1773878399@longmeadow.milton-keynes.sch.uk
SUMMARY:Year 1 & 2 Learning Fair
DESCRIPTION:
URL:https://longmeadow.milton-keynes.sch.uk/event/year-1-2-learning-fair/
END:VEVENT
BEGIN:VEVENT
DTSTART;TZID=Europe/London:20260318T152000
DTEND;TZID=Europe/London:20260318T160000
DTSTAMP:20260423T081552
CREATED:20260306T112453Z
LAST-MODIFIED:20260306T112453Z
UID:103424-1773847200-1773849600@longmeadow.milton-keynes.sch.uk
SUMMARY:EYFS Maths Workshop
DESCRIPTION:
URL:https://longmeadow.milton-keynes.sch.uk/event/eyfs-maths-workshop/
END:VEVENT
END:VCALENDAR